BEGIN:VCALENDAR
VERSION:2.0
PRODID:-//Issue De Secours - ECPv6.0.0//NONSGML v1.0//EN
CALSCALE:GREGORIAN
METHOD:PUBLISH
X-WR-CALNAME:Issue De Secours
X-ORIGINAL-URL:https://issuedesecours.com
X-WR-CALDESC:Events for Issue De Secours
REFRESH-INTERVAL;VALUE=DURATION:PT1H
X-Robots-Tag:noindex
X-PUBLISHED-TTL:PT1H
BEGIN:VTIMEZONE
TZID:UTC
BEGIN:STANDARD
TZOFFSETFROM:+0000
TZOFFSETTO:+0000
TZNAME:UTC
DTSTART:20180101T000000
END:STANDARD
END:VTIMEZONE
BEGIN:VEVENT
DTSTART;TZID=UTC:20180101T000000
DTEND;TZID=UTC:20210101T235900
DTSTAMP:20260422T062452
CREATED:20230209T140154Z
LAST-MODIFIED:20230215T140827Z
UID:2716-1514764800-1609545540@issuedesecours.com
SUMMARY:Au long du Fil
DESCRIPTION:Durant notre résidence au centre culturel Léo Lagrange\, la compagnie s’est intéressée à la mémoire industrielle du textile de la région\, notamment celle de l’usine Cosserat à Amiens. De cet intérêt\, un spectacle de rue a vu le jour nommé Les Tisseurs d’Instants.  \nParallèlement à ce spectacle de rue\, un projet vidéo filmé\, Au long du Fil\, sous forme de capsules de quelques minutes a pris forme en 2018 en partenariat avec l’association Bulldog Audiovisuel. Ces capsules ont toutes le même format. En effet\, le spectateur observe “le gâs” suivant une bobine rouge qui se déroule\, l’amenant à visiter un lieu et allant à la rencontre des habitants avec qui il échange. \n \nL’un des objectifs de ce projet est de faire découvrir et redécouvrir des sites industriels en friche ou toujours en activité. Ces sites\, souvent placés le long du fleuve de la Somme pour des besoins en eau\, en énergie\, ou en termes de flux et de transport\, sont intéressants d’un point de vue historique\, architectural mais aussi culturel et patrimonial. \nLes 29 capsules réalisées pour le moment sont disponibles sur notre chaîne youtube accessible via le lien ci dessous : \nhttps://www.youtube.com/@issuedesecours6384 \nDISTRIBUTION \nAlexis Tripier – Comédien \nMylène Kokel – Réalisatrice\n \nMusique originale par Julien Huet
URL:https://issuedesecours.com/evenement/au-long-du-fil/
ATTACH;FMTTYPE=image/jpeg:https://issuedesecours.com/wp-content/uploads/2023/02/MGDShO6.jpeg
END:VEVENT
END:VCALENDAR